BEGIN:VCALENDAR
VERSION:2.0
PRODID:-//Innovate New Albany - ECPv6.15.20//NONSGML v1.0//EN
CALSCALE:GREGORIAN
METHOD:PUBLISH
X-WR-CALNAME:Innovate New Albany
X-ORIGINAL-URL:https://innovatenewalbany.org
X-WR-CALDESC:Events for Innovate New Albany
REFRESH-INTERVAL;VALUE=DURATION:PT1H
X-Robots-Tag:noindex
X-PUBLISHED-TTL:PT1H
BEGIN:VTIMEZONE
TZID:America/New_York
BEGIN:DAYLIGHT
TZOFFSETFROM:-0500
TZOFFSETTO:-0400
TZNAME:EDT
DTSTART:20250309T070000
END:DAYLIGHT
BEGIN:STANDARD
TZOFFSETFROM:-0400
TZOFFSETTO:-0500
TZNAME:EST
DTSTART:20251102T060000
END:STANDARD
BEGIN:DAYLIGHT
TZOFFSETFROM:-0500
TZOFFSETTO:-0400
TZNAME:EDT
DTSTART:20260308T070000
END:DAYLIGHT
BEGIN:STANDARD
TZOFFSETFROM:-0400
TZOFFSETTO:-0500
TZNAME:EST
DTSTART:20261101T060000
END:STANDARD
BEGIN:DAYLIGHT
TZOFFSETFROM:-0500
TZOFFSETTO:-0400
TZNAME:EDT
DTSTART:20270314T070000
END:DAYLIGHT
BEGIN:STANDARD
TZOFFSETFROM:-0400
TZOFFSETTO:-0500
TZNAME:EST
DTSTART:20271107T060000
END:STANDARD
END:VTIMEZONE
BEGIN:VEVENT
DTSTART;TZID=America/New_York:20260520T091500
DTEND;TZID=America/New_York:20260520T120000
DTSTAMP:20260424T080357
CREATED:20260303T025405Z
LAST-MODIFIED:20260315T143651Z
UID:21221-1779268500-1779278400@innovatenewalbany.org
SUMMARY:Get a Grip on Your Business - Six Keys to Getting What You Want from Your Entrepreneurial Company
DESCRIPTION:TIGER Tools Workshop \nPlease arrive at 9:15 am.\nBe ready to interact with our workshop leader\, Bryan Little\, and your fellow participants.\nEnjoy coffee & morning snacks. Mingle. Make new friends. \nJoin us for an interactive\, hands-on EOS® (Entrepreneurial Operating System®) Workshop designed for growth-minded business owners and leadership teams who are ready to take their organizations to the next level. During this session\, you’ll roll up your sleeves\, engage in real discussion\, and walk away with actionable tools you can begin using in your business immediately. \nWhat you’ll gain: \n\nA clear understanding of the Six Key Components™ every great organization must master to thrive.\nA chance to confront organizational issues head-on in a safe\, productive environment.\nInsight into how to get your entire team aligned around a clear\, shared vision.\nPractical ways to begin instilling discipline and accountability throughout your organization.\n\n  \nWhether you’re just learning about EOS or looking to go deeper\, this workshop will leave you with clarity\, energy\, and real-world tools you can put to work the very next day. \n*************** \nOur workshop leader\, Bryan Little\, is an experienced Professional EOS Implementer and seasoned business leader with over 25 years of experience helping organizations strengthen their operations\, align their leadership teams\, and achieve sustainable growth. He has worked with businesses across a diverse range of industries\, including retail\, nonprofit\, manufacturing\, construction\, staffing\, distribution\, and service-based organizations\, giving him a broad perspective on the unique challenges and opportunities leadership teams face. \nAs the Founder and President of Kata Solution\, Bryan is passionate about helping entrepreneurial leadership teams gain clarity\, traction\, and long-term health using the EOS framework. Having personally led organizations through periods of growth and transformation\, he understands firsthand the challenges that can hold businesses back: lack of clarity\, inconsistent accountability\, and operational inefficiencies. Bryan brings a practical\, real-world approach to help leadership teams simplify their business\, strengthen execution\, and build healthier\, more cohesive organizations. \nBryan holds a Master of Operational Excellence degree from The Ohio State University and is deeply committed to helping leaders build businesses they truly enjoy running while developing teams that are aligned\, accountable\, and capable of achieving their vision. \nOutside of his professional work\, Bryan enjoys spending time with his family\, supporting youth through tennis\, and cheering on the Ohio State Buckeyes. \n*************** \nLike all TIGER Events\, this workshop is FREE.\n\nSchedule: \n9:15 am – Breakfast / Socializing \n9:50 am – Introduce yourself to our crowd – 10 seconds per person\, please \n10:00 am – Hand-off to Bryan \n12:00 noon – Workshop Wrap / More Socializing \n\n\n\n\n                \n                        Name*\n                            \n                            \n                                                    First\n                                                    \n                                                \n                            \n                            \n                                                            Last\n                                                            \n                                                        \n                            \n                        Email*\n                            \n                        Company*Consent to Use My Image & Voice*By registering for & participating in this event\, I am consenting to the recording of my image and/or voice. I am also authorizing Innovate New Albany to use photographs\, video\, and audio recordings containing my image and/or voice in any medium for any purpose.\n								\n								I AGREE\n							\n          \n            \n            \n            \n            \n            \n            \n            \n            \n            \n            \n            \n            \n            \n        \n                        Δ
URL:https://innovatenewalbany.org/new-event/get-a-grip-on-your-business-six-keys-to-getting-what-you-want-from-your-entrepreneurial-company-2/
LOCATION:INNOVATE NEW ALBANY – NEW LOCATION\, 7775 Walton Pkwy\, Suite 100\, New Albany\, OH\, 43054\, United States
CATEGORIES:TIGER Tools Workshop
ATTACH;FMTTYPE=image/png:https://innovatenewalbany.org/wp-content/uploads/2026/03/Headshot-Bryan-Little-TIGER-Tools-Blank-052026.png
END:VEVENT
END:VCALENDAR