BEGIN:VCALENDAR
VERSION:2.0
PRODID:-//Innovate New Albany - ECPv6.15.20//NONSGML v1.0//EN
CALSCALE:GREGORIAN
METHOD:PUBLISH
X-WR-CALNAME:Innovate New Albany
X-ORIGINAL-URL:https://innovatenewalbany.org
X-WR-CALDESC:Events for Innovate New Albany
REFRESH-INTERVAL;VALUE=DURATION:PT1H
X-Robots-Tag:noindex
X-PUBLISHED-TTL:PT1H
BEGIN:VTIMEZONE
TZID:America/New_York
BEGIN:DAYLIGHT
TZOFFSETFROM:-0500
TZOFFSETTO:-0400
TZNAME:EDT
DTSTART:20230312T070000
END:DAYLIGHT
BEGIN:STANDARD
TZOFFSETFROM:-0400
TZOFFSETTO:-0500
TZNAME:EST
DTSTART:20231105T060000
END:STANDARD
BEGIN:DAYLIGHT
TZOFFSETFROM:-0500
TZOFFSETTO:-0400
TZNAME:EDT
DTSTART:20240310T070000
END:DAYLIGHT
BEGIN:STANDARD
TZOFFSETFROM:-0400
TZOFFSETTO:-0500
TZNAME:EST
DTSTART:20241103T060000
END:STANDARD
BEGIN:DAYLIGHT
TZOFFSETFROM:-0500
TZOFFSETTO:-0400
TZNAME:EDT
DTSTART:20250309T070000
END:DAYLIGHT
BEGIN:STANDARD
TZOFFSETFROM:-0400
TZOFFSETTO:-0500
TZNAME:EST
DTSTART:20251102T060000
END:STANDARD
END:VTIMEZONE
BEGIN:VEVENT
DTSTART;TZID=America/New_York:20241120T113000
DTEND;TZID=America/New_York:20241120T130000
DTSTAMP:20260423T003408
CREATED:20240911T022025Z
LAST-MODIFIED:20250203T160856Z
UID:15309-1732102200-1732107600@innovatenewalbany.org
SUMMARY:Ordinary\, But Extra - How Seemingly Little Things Make A Big Difference in Business
DESCRIPTION:Join us at:\n7775 Walton Pkwy\, 3rd Floor\, New Albany\, OH 43054\nBe ready to interact with our workshop leader\, Neal Bell\, and your fellow participants.  \nPlease arrive at 11:30 am. Eat. Mingle. Make new friends. \nTo the untrained eye\, there is very little difference between the business that is spinning its wheels and one that is making steady progress towards its longer-term goals. Similar to physical fitness\, organizational fitness requires businesses to honor a few basic truths day in and day out. \nOur workshop leader\, Neal Bell\, will share how businesses can use the Entrepreneurial Operating System (EOS) to preserve time and energy for long-term planning\, translating those plans into small daily steps that advance them toward their long-term goals. \nAttending this TIGER Tools Workshop will help you understand the difference between being ordinary and extraordinary\, and take your organization to a higher level. \n*************** \nAn entrepreneur since 1999\, Neal Bell has learned a great deal about what works (and what doesn’t) when it comes to running businesses. He holds a degree in Accounting and an MBA (both from The Ohio State University)\, but it is his real-world operating experience that Neal wants to share with today’s business leaders. \nIn his early years as an entrepreneur\, Neal fell into the trap of thinking he had to do everything himself\, and inventing every business process from scratch. Experience eventually taught him otherwise\, and he wants to save you some of the aggravation that he experienced. \nNeal discovered EOS (Entrepreneurial Operating System) in the early 2000s\, and immediately recognized it for the game-changer that it is for the entrepreneurial community. \nNeal is now a Professional EOS Implementer\, helping entrepreneurs and their leadership teams get more out of their businesses by implementing EOS tools and disciplines. \n*************** \nLike all TIGER Events\, this TIGER Tools Workshop is FREE \nTimeline: \n11:30 am – Lunch / Socializing \n11:50 am – Introduce yourself to our crowd (your “15 Seconds of Fame”) \n12:05 pm – Hand-off to Neal \n1:00 pm – Wrap / More Socializing
URL:https://innovatenewalbany.org/new-event/ordinary-but-extra-how-seemingly-little-things-make-a-big-difference-in-business/
LOCATION:INNOVATE NEW ALBANY – NEW LOCATION\, 7775 Walton Pkwy\, Suite 100\, New Albany\, OH\, 43054\, United States
CATEGORIES:TIGER Tools Workshop
ATTACH;FMTTYPE=image/jpeg:https://innovatenewalbany.org/wp-content/uploads/2024/09/Headshot-Neal-Bell-High-Res-scaled.jpg
END:VEVENT
END:VCALENDAR