BEGIN:VCALENDAR
VERSION:2.0
PRODID:-//Innovate New Albany - ECPv6.15.20//NONSGML v1.0//EN
CALSCALE:GREGORIAN
METHOD:PUBLISH
X-WR-CALNAME:Innovate New Albany
X-ORIGINAL-URL:https://innovatenewalbany.org
X-WR-CALDESC:Events for Innovate New Albany
REFRESH-INTERVAL;VALUE=DURATION:PT1H
X-Robots-Tag:noindex
X-PUBLISHED-TTL:PT1H
BEGIN:VTIMEZONE
TZID:America/New_York
BEGIN:DAYLIGHT
TZOFFSETFROM:-0500
TZOFFSETTO:-0400
TZNAME:EDT
DTSTART:20250309T070000
END:DAYLIGHT
BEGIN:STANDARD
TZOFFSETFROM:-0400
TZOFFSETTO:-0500
TZNAME:EST
DTSTART:20251102T060000
END:STANDARD
BEGIN:DAYLIGHT
TZOFFSETFROM:-0500
TZOFFSETTO:-0400
TZNAME:EDT
DTSTART:20260308T070000
END:DAYLIGHT
BEGIN:STANDARD
TZOFFSETFROM:-0400
TZOFFSETTO:-0500
TZNAME:EST
DTSTART:20261101T060000
END:STANDARD
BEGIN:DAYLIGHT
TZOFFSETFROM:-0500
TZOFFSETTO:-0400
TZNAME:EDT
DTSTART:20270314T070000
END:DAYLIGHT
BEGIN:STANDARD
TZOFFSETFROM:-0400
TZOFFSETTO:-0500
TZNAME:EST
DTSTART:20271107T060000
END:STANDARD
END:VTIMEZONE
BEGIN:VEVENT
DTSTART;TZID=America/New_York:20260220T110000
DTEND;TZID=America/New_York:20260220T130000
DTSTAMP:20260421T074619
CREATED:20251231T225847Z
LAST-MODIFIED:20260131T193225Z
UID:10000431-1771585200-1771592400@innovatenewalbany.org
SUMMARY:From Invisible to In-Demand: How Founders Actually Win on LinkedIn
DESCRIPTION:7775 Walton Pkwy\, Suite 100\nNew Albany\, OH 43054\nFriday 2/20/26\, 11:00 am – 1:00 pm\nBe ready to interact with our featured speaker\, Allison Ditmer\, and your fellow participants.  \nPlease arrive at 11:00 am. Eat. Mingle. Make new friends. \nMost founders know LinkedIn “matters.” Very few know what actually moves the needle\, especially when time\, energy\, and confidence are limited. \nIn this TIGER Talk\, Allison Ditmer will break down how founders and business owners can use LinkedIn as a real business asset\, not another platform that feels noisy\, awkward\, or overwhelming. \nYou’ll learn: \n\nWhat your LinkedIn profile is signaling right now (and how to fix it fast)\nHow to balance personal content vs. company content without burning out\nWhy scores\, metrics\, and trends (like SSI) matter less than clarity\nSimple content prompts you can use immediately…no “influencer energy” required\n\nYou’ll leave with clear priorities\, practical examples\, and a smarter way to show up on LinkedIn that actually supports your business growth. \nIf you’ve ever thought\, “I know I should be doing more on LinkedIn\, but I’m not sure what\,” this session is for you. \n*************** \nAllison Ditmer\, MBA\, is a graduate of Bowling Green State University\, a content strategist\, and a founder with 20 years of experience in digital marketing. \nAfter leaving her corporate role at Abbott Nutrition\, where she led marketing and ecommerce initiatives across the pediatric\, therapeutic\, and performance brands\, Allison built her own content business from the ground up. For the past 3+ years\, she has helped founders\, fractional executives\, and growing businesses turn LinkedIn into a platform for visibility\, connection\, and inbound opportunities. \nAllison specializes in helping business owners clarify their message\, show up with confidence\, and create content that actually supports growth\, without chasing trends or burning out. \nShe is also a member of the Denison Edge team\, where she teaches college-level courses focused on digital marketing and content creation. \nWhen she’s not working with clients or teaching\, Allison can be found cuddling with her two mini-Yorkies\, traveling to national parks\, or cheering on her kids at travel sports games. \n*************** \nLike all TIGER Events\, this talk is FREE. \nTimeline: \n11:00 am – Coffee\, Snacks\, & Socializing \n11:15 am – Lunch & More Socializing \n11:45 am – Introduce yourself to our crowd (your “15 Seconds of Fame”) \n12:05 pm – Hand-off to Allison \n1:00 pm – Wrap & Resume Socializing \n\n\n                \n                        Name*\n                            \n                            \n                                                    First\n                                                    \n                                                \n                            \n                            \n                                                            Last\n                                                            \n                                                        \n                            \n                        Email*\n                            \n                        Company*Consent to Use My Image & Voice*By registering for & participating in this event\, I am consenting to the recording of my image and/or voice. I am also authorizing Innovate New Albany to use photographs\, video\, and audio recordings containing my image and/or voice in any medium for any purpose.\n								\n								I AGREE\n							\n          \n            \n            \n            \n            \n            \n            \n            \n            \n            \n            \n            \n            \n            \n        \n                        Δ
URL:https://innovatenewalbany.org/new-event/from-invisible-to-in-demand-how-founders-actually-win-on-linkedin/
LOCATION:INNOVATE NEW ALBANY – NEW LOCATION\, 7775 Walton Pkwy\, Suite 100\, New Albany\, OH\, 43054\, United States
CATEGORIES:TIGER Talk
ATTACH;FMTTYPE=image/png:https://innovatenewalbany.org/wp-content/uploads/2025/12/Headshot-Allison-Ditmer-Blank-022026.png
END:VEVENT
END:VCALENDAR