BEGIN:VCALENDAR
VERSION:2.0
PRODID:-//Innovate New Albany - ECPv6.15.20//NONSGML v1.0//EN
CALSCALE:GREGORIAN
METHOD:PUBLISH
X-WR-CALNAME:Innovate New Albany
X-ORIGINAL-URL:https://innovatenewalbany.org
X-WR-CALDESC:Events for Innovate New Albany
REFRESH-INTERVAL;VALUE=DURATION:PT1H
X-Robots-Tag:noindex
X-PUBLISHED-TTL:PT1H
BEGIN:VTIMEZONE
TZID:America/New_York
BEGIN:DAYLIGHT
TZOFFSETFROM:-0500
TZOFFSETTO:-0400
TZNAME:EDT
DTSTART:20220313T070000
END:DAYLIGHT
BEGIN:STANDARD
TZOFFSETFROM:-0400
TZOFFSETTO:-0500
TZNAME:EST
DTSTART:20221106T060000
END:STANDARD
BEGIN:DAYLIGHT
TZOFFSETFROM:-0500
TZOFFSETTO:-0400
TZNAME:EDT
DTSTART:20230312T070000
END:DAYLIGHT
BEGIN:STANDARD
TZOFFSETFROM:-0400
TZOFFSETTO:-0500
TZNAME:EST
DTSTART:20231105T060000
END:STANDARD
BEGIN:DAYLIGHT
TZOFFSETFROM:-0500
TZOFFSETTO:-0400
TZNAME:EDT
DTSTART:20240310T070000
END:DAYLIGHT
BEGIN:STANDARD
TZOFFSETFROM:-0400
TZOFFSETTO:-0500
TZNAME:EST
DTSTART:20241103T060000
END:STANDARD
END:VTIMEZONE
BEGIN:VEVENT
DTSTART;TZID=America/New_York:20230906T113000
DTEND;TZID=America/New_York:20230906T130000
DTSTAMP:20260423T164223
CREATED:20230825T183538Z
LAST-MODIFIED:20230829T201212Z
UID:10000308-1693999800-1694005200@innovatenewalbany.org
SUMMARY:Why Focusing Solely on Revenue May Be Killing Your Company
DESCRIPTION:WED 9/6/23\, 11:30 am – 1:00 pm \nIN-PERSON at Innovate New Albany\, 8000 Walton Pkwy\, Suite 200\, New Albany\, OH 43054 \nBe ready to interact with our presenters and your fellow participants.  \nPlease arrive at 11:30 am. Enjoy lunch. Mingle. Make new friends. \nBusiness owners understand the importance of revenue and sales in growing their business. It’s fun to watch your business thrive\, but what about your company’s infrastructure? \nHave you ever thought: “Hey\, we’re growing! We’ll focus on that boring operational stuff later.”? It can be put off for only so long before you’re forced to face it. And\, it usually happens in the form of an expensive\, disruptive “OH\, NO!” moment. \nThat moment could be:\n• Needing to scale up to deliver on a new contract\n• Needing money to expand or even just to make payroll\n• Your best employees start jumping ship\n• Being sued by a former employee or a customer\n• Getting a letter from a government agency\, etc. \nIt doesn’t have to be bad news\, but it usually is unexpected. \nIn this TIGER Talk\, Diana Dibble and Molly Gimmel will make the often-tedious topic of business operations accessible and fun. Their in-the-trenches expertise will help you understand the infrastructure and other essentials that will keep you in business and thriving for the long haul. \n*************** \nDiana Dibble is the CEO of Tripod Coaching & Consulting LLC™\, which opened in 2022. It was founded from her passion for business operations\, which she has been doing for decades. Tripod provides business operations services\, and they are experts in Planning for the “What If”™. Throughout her career\, Diana has found that revenue generating activities are usually a business’ priority. However\, focusing solely on revenue may be killing the company. That’s where Tripod comes in. They are really good at what they do\, and they make biz ops fun… or at least more fun. \nIn addition to Tripod\, Diana is President/Co-Founder of Design To Delivery Inc (D2DInc). D2DInc is a government contracting firm founded in 2001. They provide acquisition and program management support services to US federal civilian and defense agencies. In addition\, D2DInc recently launched the Small Business Superstore as a new line of business to resell products to the federal government. \nThroughout her career\, Diana has been recognized with local and national industry awards including the Enterprising Women’s 2020 Enterprising Women of the Year award\, the 2022 National Association of Women Business Owners (NAWBO) Woman Business Owner of the Year award as a top 3 finalist\, and the NAWBO Greater DC Chapter 2023 Entrepreneur of the Year award as a top 3 finalist. D2DInc has also received numerous awards since its founding including being recognized on Inc Magazine’s INC5000 list of the fastest growing US privately held firms for 4 consecutive years. \n*************** \nMolly Gimmel is CEO/Co-Founder of Design To Delivery Inc (D2DInc)\, an award-winning firm that provides program and acquisition management support services to Federal government agencies. Molly has been working in the field of government contract and acquisition management since 1991. Before co-founding D2DInc in 2001\, she spent eight years working in the government practices of three of the “Big Five” accounting/consulting firms. D2DInc appeared four times on the Inc 5000 list of fastest growing privately held companies in the US\, from 2014 thru 2017. D2DInc was ranked #32 on the Women Presidents Organization’s list of Fastest Growing Women Owned Companies in 2016. \nIn 2021\, Molly founded the Vellamo Leadership Institute to bring together like-minded individuals who strive to grow as leaders. She believes that fostering a network of support empowers people to expand their influence and enjoy rewarding careers. \nMolly is the author of Master Your Mindset: How Women Leaders Step Up published in April 2022. In this book\, she explores the unwritten rules of successful female leadership. Through interviews with powerful women from all walks of life—large corporations\, small businesses\, non-profits\, Hollywood\, politics\, and more — Gimmel reveals the mental attitudes that define effective leaders. Filled with personal stories\, humor\, and profound insights from the trenches\, Master Your Mindset shows you step by step how to connect with yourself and with those around you in authenticity\, confidence\, and integrity to become the best leader you can be. \nMolly holds a Masters of Science in Contract & Acquisition Management from Florida Institute of Technology\, and a Bachelors of Business Administration in Marketing from the College of William & Mary. She has a Graduate Certificate in Leadership from the UC Davis Graduate School of Management. \n*************** \nLike all TIGER Events\, this one is FREE.  \nTimeline: \n11:30 am – Lunch / Socializing \n11:50 am – Introduce yourself to our crowd (your “best 20 seconds”) \n12:05 pm – Hand-off to Diana & Molly \n1:00 pm – Wrap / More Socializing \n[expire-content date=”2023-09-06 1:00pm” message=”This event has passed so registration is closed.”]\n\n                \n                        Name*\n                            \n                            \n                                                    \n                                                    First\n                                                \n                            \n                            \n                                                    \n                                                    Last\n                                                \n                            \n                        Email*\n                            \n                        Company*Consent to Use My Image & Voice*By registering for & participating in this event\, I am consenting to the recording of my image and/or voice. I am also authorizing Innovate New Albany to use photographs\, video\, and audio recordings containing my image and/or voice in any medium for any purpose.\n								\n								I AGREE\n							\n          \n            \n            \n            \n            \n            \n            \n            \n            \n            \n            \n            \n            \n            \n        \n                        Δ \n                        \n[/expire-content]
URL:https://innovatenewalbany.org/new-event/why-focusing-solely-on-revenue-may-be-killing-your-company/
LOCATION:Innovate New Albany\, 8000 Walton Parkway Suite 200\, New Albany\, OH\, 43054\, United States
CATEGORIES:TIGER Talk
ATTACH;FMTTYPE=image/jpeg:https://innovatenewalbany.org/wp-content/uploads/2023/08/Headshot-Diana-Dibble-Molly-Gimmel-TIGER-Graphics-090623-CORRECTED.jpg
END:VEVENT
BEGIN:VEVENT
DTSTART;TZID=America/New_York:20230915T113000
DTEND;TZID=America/New_York:20230915T130000
DTSTAMP:20260423T164223
CREATED:20230830T023824Z
LAST-MODIFIED:20230909T235326Z
UID:10000314-1694777400-1694782800@innovatenewalbany.org
SUMMARY:Climb Every Day - The Power of Showing Up
DESCRIPTION:FRI 9/15/23\, 11:30 am – 1:00 pm \nIN-PERSON at Innovate New Albany\, 8000 Walton Pkwy\, Suite 200\, New Albany\, OH 43054 \nBe ready to interact with our presenters and your fellow participants.  \nPlease arrive at 11:30 am. Enjoy lunch. Mingle. Make new friends. \nIgnite a culture of daily progress and business triumph with the compelling presentation\, “Climb Every Day.”  \nStep into a world where consistent effort takes precedence over fixating solely on end goals. \nThis transformative framework empowers organizations to show up each day\, putting in the work that leads to sustained achievement. Join our TIGER Talk presenter\, Perry Maughmer\, to explore strategies that foster resilience\, innovation\, and adaptability\, propelling your business towards remarkable success\, one step at a time. \n*************** \nPerry Maughmer is a catalyst for personal and professional growth. With a passion for inspiring positive change\, Perry has dedicated his career to empowering individuals and organizations to reach their full potential. As the founder of the Potential Leader Lab he has crafted an innovative platform that nurtures leadership skills and fosters a culture of excellence. \nHaving honed his expertise over years of experience\, Perry draws from a diverse background that spans both corporate and entrepreneurial landscapes. His insights are further enriched by his extensive collaboration with leaders of businesses with revenues ranging from $1M to $300M . Through his dynamic presentations and workshops\, Perry brings to life actionable strategies that prioritize consistent daily effort over fixating on end results. \nPrepare to be inspired\, as Perry weaves a tapestry of practical wisdom\, motivational anecdotes\, and cutting-edge insights. His commitment to helping individuals and teams embrace resilience\, innovation\, and a relentless pursuit of growth is evident in every word he shares. Get ready to embark on a journey towards unlocking untapped potential and achieving extraordinary success. \n*************** \nLike all TIGER Events\, this one is FREE.  \nTimeline: \n11:30 am – Lunch / Socializing \n11:50 am – Introduce yourself to full crowd (your “best 15 seconds”) \n12:05 pm – Hand-off to Perry \n1:00 pm – Wrap / More Socializing \n[expire-content date=”2023-09-15 1:00pm” message=”This event has passed so registration is closed.”]\n                \n                        Name*\n                            \n                            \n                                                    \n                                                    First\n                                                \n                            \n                            \n                                                    \n                                                    Last\n                                                \n                            \n                        Email*\n                            \n                        Company*Consent to Use My Image & Voice*By registering for & participating in this event\, I am consenting to the recording of my image and/or voice. I am also authorizing Innovate New Albany to use photographs\, video\, and audio recordings containing my image and/or voice in any medium for any purpose.\n								\n								I AGREE\n							\n          \n            \n            \n            \n            \n            \n            \n            \n            \n            \n            \n            \n            \n            \n        \n                        Δ \n                        \n[/expire-content]
URL:https://innovatenewalbany.org/new-event/climb-every-day-the-power-of-showing-up/
LOCATION:Innovate New Albany\, 8000 Walton Parkway Suite 200\, New Albany\, OH\, 43054\, United States
ATTACH;FMTTYPE=image/jpeg:https://innovatenewalbany.org/wp-content/uploads/2023/08/Headshot-Perry-Maughmer-TIGER-Tools-Graphics-091523.jpg
END:VEVENT
BEGIN:VEVENT
DTSTART;TZID=America/New_York:20230922T113000
DTEND;TZID=America/New_York:20230922T130000
DTSTAMP:20260423T164223
CREATED:20230901T202736Z
LAST-MODIFIED:20230921T202019Z
UID:10000315-1695382200-1695387600@innovatenewalbany.org
SUMMARY:How Clever\, Inventive\, and Original Thinking Can Resolve Wicked Problems
DESCRIPTION:FRI 9/22/23\, 11:30 am – 1:00 pm \nIN-PERSON at Innovate New Albany\, 8000 Walton Pkwy\, Suite 200\, New Albany\, OH 43054 \nBe ready to interact with our presenter\, Tom Gattis\, and your fellow participants.  \nPlease arrive at 11:30 am. Eat lunch. Mingle. Make new friends. \nMaster storyteller Tom Gattis will share stories of human ingenuity in an entertaining and enlightening presentation based on the premise that ingenuity comes from clever\, inventive\, and original thinking. These stories from our past and present revolve around design\, innovation\, and ingenious thinking that has impacted modern society. \nTom will also provide a peek into the upcoming Say Hi to the Future Activation\, to be held in Columbus on October 26\, 2023 And he will introduce Catalyst – the Human Ingenuity Game\, the newest product created by his firm\, Spyder Works. Catalyst is designed to help organizations think differently to resolve their wicked problems. \n*************** \nTom Gattis is a Partner and the Chief Design Officer for Spyder Works\, a business consulting firm\, and the creator of Say Hi to the Future activations. Tom is a former Dean and a current Design Professor at the Columbus College of Art & Design and a former AVP of the Savannah College of Art and Design. \nTom speaks internationally on design and innovation\, its impact on business\, and the value of using gamification to resolve wicked problems. \n*************** \nLike all TIGER Events\, this one is FREE.  \nTimeline: \n11:30 am – Lunch / Socializing \n11:50 am – Introduce yourself to full crowd (your “best 15 seconds”) \n12:05 pm – Hand-off to Tom \n1:00 pm – Wrap / More Socializing \n[expire-content date=”2023-09-22 1:00pm” message=”This event has passed so registration is closed.”]\n                \n                        Name*\n                            \n                            \n                                                    \n                                                    First\n                                                \n                            \n                            \n                                                    \n                                                    Last\n                                                \n                            \n                        Email*\n                            \n                        Company*Consent to Use My Image & Voice*By registering for & participating in this event\, I am consenting to the recording of my image and/or voice. I am also authorizing Innovate New Albany to use photographs\, video\, and audio recordings containing my image and/or voice in any medium for any purpose.\n								\n								I AGREE\n							\n          \n            \n            \n            \n            \n            \n            \n            \n            \n            \n            \n            \n            \n            \n        \n                        Δ \n                        \n[/expire-content]
URL:https://innovatenewalbany.org/new-event/stories-of-human-ingenuity-from-say-hi-to-the-future/
LOCATION:Innovate New Albany\, 8000 Walton Parkway Suite 200\, New Albany\, OH\, 43054\, United States
CATEGORIES:TIGER Talk
ATTACH;FMTTYPE=image/jpeg:https://innovatenewalbany.org/wp-content/uploads/2023/09/Headshot-Tom-Gattis-TIGER-Graphic-092223.jpg
END:VEVENT
BEGIN:VEVENT
DTSTART;TZID=America/New_York:20230927T113000
DTEND;TZID=America/New_York:20230927T130000
DTSTAMP:20260423T164223
CREATED:20230909T220932Z
LAST-MODIFIED:20230916T222924Z
UID:10000317-1695814200-1695819600@innovatenewalbany.org
SUMMARY:The Future of Communication and AI
DESCRIPTION:WED 9/27/23\, 11:30 am – 1:00 pm \nIN-PERSON at Innovate New Albany\, 8000 Walton Pkwy\, Suite 200\, New Albany\, OH 43054 \nBe ready to interact with our presenter\, Bill Balderaz\, and your fellow participants.  \nPlease arrive at 11:30 am. Eat lunch. Mingle. Make new friends. \nPlease join us for this TIGER Talk. You’ll learn about the changing world of communications\, including new technologies\, AI\, more ways to connect\, and better methods for understanding data. \nBy the end of this session\, you’ll be able to spot useful technologies for communication strategies\, understand how to use your own data for marketing\, grasp the basics of AI in communication\, make the most of various communication channels and use the latest data tricks to track how people feel and how their business is doing. \n*************** \nOur presenter\, Bill Balderaz is the President and Founder of the Inc. 5000 company Futurety\, a data analytics and marketing consulting firm. \nFuturety specializes in serving regulated industries\, including healthcare\, pharma\, finance\, government and medical devices. Previously\, he was the founder and president of Webbed Marketing which went from a one-man consultancy to one of the fastest-growing interactive marketing agencies in the Midwest. \nBill loves working with startups and companies at their earliest stages of innovation and development. He has spoken at more than 150 conferences across the United States. His topics have included: \n\nhow to get people interested in your company\nhow to sell things\nhow to use the internet to make your business better\n\nBill has also been highlighted in more than 100 news stories including in The Wall Street Journal and on NPR. \nOutside of work\, Bill does important things to help others. He’s part of a group that helps kids with cancer and he helped start a group that supports kids with serious illnesses. \n*************** \nLike all TIGER Events\, this one is FREE.  \nTimeline: \n11:30 am – Lunch / Socializing \n11:50 am – Introduce yourself to crowd (your “best 15 seconds”) \n12:05 pm – Hand-off to Bill \n1:00 pm – Wrap / More Socializing \n[expire-content date=”2023-09-27 1:00pm” message=”This event has passed so registration is closed.”]\n                \n                        Name*\n                            \n                            \n                                                    \n                                                    First\n                                                \n                            \n                            \n                                                    \n                                                    Last\n                                                \n                            \n                        Email*\n                            \n                        Company*Consent to Use My Image & Voice*By registering for & participating in this event\, I am consenting to the recording of my image and/or voice. I am also authorizing Innovate New Albany to use photographs\, video\, and audio recordings containing my image and/or voice in any medium for any purpose.\n								\n								I AGREE\n							\n          \n            \n            \n            \n            \n            \n            \n            \n            \n            \n            \n            \n            \n            \n        \n                        Δ \n                        \n[/expire-content] \n 
URL:https://innovatenewalbany.org/new-event/the-future-of-communication-and-ai/
LOCATION:Innovate New Albany\, 8000 Walton Parkway Suite 200\, New Albany\, OH\, 43054\, United States
CATEGORIES:TIGER Talk
ATTACH;FMTTYPE=image/jpeg:https://innovatenewalbany.org/wp-content/uploads/2023/09/Headshot-Bill-Balderaz-TIGER-Graphics-092723-1.jpg
END:VEVENT
END:VCALENDAR